BEGIN:VCALENDAR
VERSION:2.0
PRODID:-//Calderwood Valley Golf Course - ECPv4.6.7//NONSGML v1.0//EN
CALSCALE:GREGORIAN
METHOD:PUBLISH
X-WR-CALNAME:Calderwood Valley Golf Course
X-ORIGINAL-URL:http://calderwoodgolf.com.au
X-WR-CALDESC:Events for Calderwood Valley Golf Course
BEGIN:VEVENT
DTSTART;VALUE=DATE:20190209
DTEND;VALUE=DATE:20190210
DTSTAMP:20190301T005327
CREATED:20181115T033916Z
LAST-MODIFIED:20181115T033916Z
UID:2095-1549670400-1549756799@calderwoodgolf.com.au
SUMMARY:SOCIAL GOLF ALL DAY
DESCRIPTION:Social Golf All Day- No Competitions.\nBookings Recommended\n
URL:http://calderwoodgolf.com.au/event/social-golf-day-25/
ATTACH;FMTTYPE=image/jpeg:http://calderwoodgolf.com.au/wp-content/uploads/2017/11/19620276_10154782015220922_8142422665707992248_o.jpg
END:VEVENT
END:VCALENDAR