BEGIN:VCALENDAR
VERSION:2.0
PRODID:-//Calderwood Valley Golf Course - ECPv4.6.7//NONSGML v1.0//EN
CALSCALE:GREGORIAN
METHOD:PUBLISH
X-WR-CALNAME:Calderwood Valley Golf Course
X-ORIGINAL-URL:http://calderwoodgolf.com.au
X-WR-CALDESC:Events for Calderwood Valley Golf Course
BEGIN:VEVENT
DTSTART;VALUE=DATE:20190210
DTEND;VALUE=DATE:20190211
DTSTAMP:20190301T005409
CREATED:20181115T034004Z
LAST-MODIFIED:20181115T034004Z
UID:2098-1549756800-1549843199@calderwoodgolf.com.au
SUMMARY:SOCIAL GOLF ALL DAY
DESCRIPTION:Social Golf All Day- No Competitions.\nBookings Recommended\n
URL:http://calderwoodgolf.com.au/event/social-golf-day-26/
ATTACH;FMTTYPE=image/jpeg:http://calderwoodgolf.com.au/wp-content/uploads/2017/11/4-1.jpg
END:VEVENT
END:VCALENDAR