BEGIN:VCALENDAR
VERSION:2.0
PRODID:-//Calderwood Valley Golf Course - ECPv4.6.7//NONSGML v1.0//EN
CALSCALE:GREGORIAN
METHOD:PUBLISH
X-WR-CALNAME:Calderwood Valley Golf Course
X-ORIGINAL-URL:http://calderwoodgolf.com.au
X-WR-CALDESC:Events for Calderwood Valley Golf Course
BEGIN:VEVENT
DTSTART;TZID=UTC+0:20190218T120000
DTEND;TZID=UTC+0:20190218T140000
DTSTAMP:20190301T005851
CREATED:20190213T033146Z
LAST-MODIFIED:20190213T033147Z
UID:2244-1550491200-1550498400@calderwoodgolf.com.au
SUMMARY:EVERY WEEKDAY: $30p.p. 18h w cart between 12-2pm
DESCRIPTION:Weekday Cart Deal $30p.p. 18h with a shared cart between 12-2pm Weekdays\n
URL:http://calderwoodgolf.com.au/event/every-weekday-30p-p-18h-w-cart-12-2pm/
ATTACH;FMTTYPE=image/jpeg:http://calderwoodgolf.com.au/wp-content/uploads/2019/02/Weekday-cart-deal-for-Website-nm-1.jpg
END:VEVENT
END:VCALENDAR