BEGIN:VCALENDAR
VERSION:2.0
PRODID:-//Calderwood Valley Golf Course - ECPv4.6.7//NONSGML v1.0//EN
CALSCALE:GREGORIAN
METHOD:PUBLISH
X-WR-CALNAME:Calderwood Valley Golf Course
X-ORIGINAL-URL:http://calderwoodgolf.com.au
X-WR-CALDESC:Events for Calderwood Valley Golf Course
BEGIN:VEVENT
DTSTART;VALUE=DATE:20190220
DTEND;VALUE=DATE:20190221
DTSTAMP:20190301T010015
CREATED:20181115T025241Z
LAST-MODIFIED:20181115T025241Z
UID:2040-1550620800-1550707199@calderwoodgolf.com.au
SUMMARY:WHY WALK WEDNESDAY - $30p.p. W SHARED CART
DESCRIPTION:$30p.p. 18h WITH A SHARED CART ALL DAY\n
URL:http://calderwoodgolf.com.au/event/walk-wednesday-30p-p-w-shared-cart-12/
ATTACH;FMTTYPE=image/jpeg:http://calderwoodgolf.com.au/wp-content/uploads/2017/11/CAVH-Promo.jpg
END:VEVENT
END:VCALENDAR